BEGIN:VCALENDAR
VERSION:2.0
PRODID:-//ChamberMaster//Event Calendar 2.0//EN
METHOD:PUBLISH
X-PUBLISHED-TTL:P3D
REFRESH-INTERVAL:P3D
CALSCALE:GREGORIAN
BEGIN:VEVENT
DTSTART:20190719T010000Z
DTEND:20190719T030000Z
X-MICROSOFT-CDO-ALLDAYEVENT:FALSE
SUMMARY:Gary Lewis and the Playboys
DESCRIPTION:Come kick off Cruise Night at the Merryman!
X-ALT-DESC;FMTTYPE=text/html:Come kick off Cruise Night at the Merryman!
LOCATION:Merryman Performing Arts Center
UID:e.1404.15964
SEQUENCE:3
DTSTAMP:20260425T231025Z
URL:https://chambermaster.kearneycoc.org/events/details/gary-lewis-and-the-playboys-15964
END:VEVENT

END:VCALENDAR
