BEGIN:VCALENDAR
VERSION:2.0
PRODID:-//ChamberMaster//Event Calendar 2.0//EN
METHOD:PUBLISH
X-PUBLISHED-TTL:P3D
REFRESH-INTERVAL:P3D
CALSCALE:GREGORIAN
BEGIN:VEVENT
DTSTART:20130627T160000Z
DTEND:20130628T000000Z
X-MICROSOFT-CDO-ALLDAYEVENT:FALSE
SUMMARY:Gary Michaels Clothiers Open House
DESCRIPTION:Join Gary Michael Clothiers and the Kearney Chamber for an Open House celebration at Sozo American Cuisine.  Gary Michaels Clothiers of Hastings will be on hand displaying their custom suits and the latest styles.
X-ALT-DESC;FMTTYPE=text/html:Join Gary Michael Clothiers and the Kearney Chamber for an Open House celebration at Sozo American Cuisine. &nbsp\;Gary Michaels Clothiers of Hastings will be on hand displaying their custom suits and the latest styles.
LOCATION:Sozo American Cuisine (inside the Kearney Holiday Inn)
UID:e.1404.3224
SEQUENCE:3
DTSTAMP:20260424T102347Z
URL:https://chambermaster.kearneycoc.org/events/details/gary-michaels-clothiers-open-house-06-27-2013-3224
END:VEVENT

END:VCALENDAR
