BEGIN:VCALENDAR
VERSION:2.0
PRODID:-//ChamberMaster//Event Calendar 2.0//EN
METHOD:PUBLISH
X-PUBLISHED-TTL:P3D
REFRESH-INTERVAL:P3D
CALSCALE:GREGORIAN
BEGIN:VEVENT
DTSTART:20151117T230000Z
DTEND:20151118T020000Z
X-MICROSOFT-CDO-ALLDAYEVENT:FALSE
SUMMARY:Gateway Farm Expo - Exhibitors Reception
DESCRIPTION:Welcome and mingle with the exhibitors and other volunteers.
X-ALT-DESC;FMTTYPE=text/html:<span style="color: rgb(49\, 49\, 49)\; font-family: open_sansregular\, Arial\, Verdana\, sans-serif\; font-size: 12px\; line-height: 19px\; background-color: rgb(255\, 255\, 255)\;">Welcome and mingle with the exhibitors and other volunteers.&nbsp\;</span>
LOCATION:Buffalo County Fairgrounds
UID:e.1404.7078
SEQUENCE:3
DTSTAMP:20260422T100801Z
URL:https://chambermaster.kearneycoc.org/events/details/gateway-farm-expo-exhibitors-reception-11-17-2015-7078
END:VEVENT

END:VCALENDAR
