BEGIN:VCALENDAR
VERSION:2.0
PRODID:-//ChamberMaster//Event Calendar 2.0//EN
METHOD:PUBLISH
X-PUBLISHED-TTL:P3D
REFRESH-INTERVAL:P3D
CALSCALE:GREGORIAN
BEGIN:VEVENT
DTSTART:20150705T180000Z
DTEND:20150705T230000Z
X-MICROSOFT-CDO-ALLDAYEVENT:FALSE
SUMMARY:Gibbon Mud Drags
DESCRIPTION:Featuring the Custer County Mud Draggers
X-ALT-DESC;FMTTYPE=text/html:Featuring the Custer County Mud Draggers
LOCATION:Aurora Co-op West edge of Gibbon\, NE
UID:e.1404.6450
SEQUENCE:3
DTSTAMP:20260422T151527Z
URL:https://chambermaster.kearneycoc.org/events/details/gibbon-mud-drags-07-05-2015-6450
END:VEVENT

END:VCALENDAR
