BEGIN:VCALENDAR
VERSION:2.0
PRODID:-//ChamberMaster//Event Calendar 2.0//EN
METHOD:PUBLISH
X-PUBLISHED-TTL:P3D
REFRESH-INTERVAL:P3D
CALSCALE:GREGORIAN
BEGIN:VEVENT
DTSTART:20160709T223000Z
DTEND:20160710T023000Z
X-MICROSOFT-CDO-ALLDAYEVENT:FALSE
SUMMARY:Gibbon Mud Drags
DESCRIPTION:New Date & Time. Gibbon Mud Drags featuring Midstates Mud Racing. Street Rod\, Sportsman\, Super Stock\, Modified and Unlimited/Open classes. Bring your lawn chairs and cooler. Concessions available on the grounds. Sponsored by the Gibbon Tractor Pull Association
X-ALT-DESC;FMTTYPE=text/html:New Date &amp\; Time. Gibbon Mud Drags featuring Midstates Mud Racing. Street Rod\, Sportsman\, Super Stock\, Modified and Unlimited/Open classes. Bring your lawn chairs and cooler. Concessions available on the grounds. Sponsored by the Gibbon Tractor Pull Association
LOCATION:West edge of Gibbon\, South of Highway 30 at the Aurora Co-op Facility.
UID:e.1404.8803
SEQUENCE:3
DTSTAMP:20260421T185237Z
URL:https://chambermaster.kearneycoc.org/events/details/gibbon-mud-drags-07-09-2016-8803
END:VEVENT

END:VCALENDAR
