BEGIN:VCALENDAR
VERSION:2.0
PRODID:-//ChamberMaster//Event Calendar 2.0//EN
METHOD:PUBLISH
X-PUBLISHED-TTL:P3D
REFRESH-INTERVAL:P3D
CALSCALE:GREGORIAN
BEGIN:VEVENT
DTSTART:20160702T223000Z
DTEND:20160703T023000Z
X-MICROSOFT-CDO-ALLDAYEVENT:FALSE
SUMMARY:Gibbon Tractor Pull
DESCRIPTION:New Day & Time! The 47th Annual Gibbon Tractor Pull will feature the Outlaw Truck & Tractor Pullers and the Nebraska Truck & Tractor Pullers. Bring your lawn chairs and cooler. Concessions available on grounds.
X-ALT-DESC;FMTTYPE=text/html:New Day &amp\; Time! The 47th Annual Gibbon Tractor Pull will feature the Outlaw Truck &amp\; Tractor Pullers and the Nebraska Truck &amp\; Tractor Pullers. Bring your lawn chairs and cooler. Concessions available on grounds.
LOCATION:West edge of Gibbon\, South of Highway 30 at the Aurora Co-op Facility.
UID:e.1404.8802
SEQUENCE:3
DTSTAMP:20260421T184136Z
URL:https://chambermaster.kearneycoc.org/events/details/gibbon-tractor-pull-07-02-2016-8802
END:VEVENT

END:VCALENDAR
