BEGIN:VCALENDAR
VERSION:2.0
PRODID:-//ChamberMaster//Event Calendar 2.0//EN
METHOD:PUBLISH
X-PUBLISHED-TTL:P3D
REFRESH-INTERVAL:P3D
CALSCALE:GREGORIAN
BEGIN:VEVENT
DTSTART:20161209T230000Z
DTEND:20161224T220000Z
X-MICROSOFT-CDO-ALLDAYEVENT:FALSE
SUMMARY:Gift Wrapping by TeamMates Mentoring Program
DESCRIPTION:Don't want to wrap all of your holiday gifts? Bring your gifts to the Hilltop Mall and the TeamMate Mentoring Program can take care of it for you! A donation of $2 per gift is suggested and tips are welcome. The gift wrappers will be available at the mall December 9th-December 24th at center court. Check the Hilltop Mall website for the gift wrapping times. http://www.shophilltopmall.com/events
X-ALT-DESC;FMTTYPE=text/html:Don&#39\;t want to wrap all of your holiday gifts? Bring your gifts to the Hilltop Mall and the TeamMate Mentoring Program can take care of it for you! A donation of $2 per gift is suggested and tips are welcome. The gift wrappers will be available at the mall December 9th-December 24th at center court. Check the Hilltop Mall website for the gift wrapping times. http://www.shophilltopmall.com/events
LOCATION:Hilltop Mall Kearney NE
UID:e.1404.9121
SEQUENCE:3
DTSTAMP:20260421T103737Z
URL:https://chambermaster.kearneycoc.org/events/details/gift-wrapping-by-teammates-mentoring-program-9121
END:VEVENT

END:VCALENDAR
