BEGIN:VCALENDAR
VERSION:2.0
PRODID:-//ChamberMaster//Event Calendar 2.0//EN
METHOD:PUBLISH
X-PUBLISHED-TTL:P3D
REFRESH-INTERVAL:P3D
CALSCALE:GREGORIAN
BEGIN:VEVENT
DTSTART;VALUE=DATE:20151203
DTEND;VALUE=DATE:20151204
TRANSP:TRANSPARENT
X-MICROSOFT-CDO-ALLDAYEVENT:TRUE
SUMMARY:Give Where You Live - Kearney
DESCRIPTION:This community-wide event will benefit more than 121 charitable causes in and around Kearney that improve the quality of life for Kearney area residents.\n\n\n\nFor more information contact Kearney Area Community Foundation or see their website http://www.kearneyfoundation.org.
X-ALT-DESC;FMTTYPE=text/html:This community-wide event will benefit more than 121 charitable causes in and around Kearney that improve the quality of life for Kearney area residents.<br />\n<br />\nFor more information&nbsp\;contact Kearney Area Community Foundation or see their website&nbsp\;<a href="http://www.kearneyfoundation.org">http://www.kearneyfoundation.org</a>.
LOCATION:Nonprofit organizations in and around Kearney.
UID:e.1404.7054
SEQUENCE:3
DTSTAMP:20260422T083858Z
URL:https://chambermaster.kearneycoc.org/events/details/give-where-you-live-kearney-12-03-2015-7054
END:VEVENT

END:VCALENDAR
