BEGIN:VCALENDAR
VERSION:2.0
PRODID:-//ChamberMaster//Event Calendar 2.0//EN
METHOD:PUBLISH
X-PUBLISHED-TTL:P3D
REFRESH-INTERVAL:P3D
CALSCALE:GREGORIAN
BEGIN:VEVENT
DTSTART:20150328T000000Z
DTEND:20150328T023000Z
X-MICROSOFT-CDO-ALLDAYEVENT:FALSE
SUMMARY:Glenn Miller Orchestra
DESCRIPTION:Since 1956\, this ensemble has carried on the tradition of the Big Band sound. Come swing with classics like Chattanooga Choo Choo\, Kalamazoo\, Tuxedo Junction\, and Moonlight Serenade!
X-ALT-DESC;FMTTYPE=text/html:Since 1956\, this ensemble has carried on the tradition of the Big Band sound. Come swing with classics like Chattanooga Choo Choo\, Kalamazoo\, Tuxedo Junction\, and Moonlight Serenade!
LOCATION:Merryman Performing Arts Center 225 West 22nd Street
UID:e.1404.5332
SEQUENCE:3
DTSTAMP:20260422T225500Z
URL:https://chambermaster.kearneycoc.org/events/details/glenn-miller-orchestra-03-27-2015-5332
END:VEVENT

END:VCALENDAR
