BEGIN:VCALENDAR
VERSION:2.0
PRODID:-//ChamberMaster//Event Calendar 2.0//EN
METHOD:PUBLISH
X-PUBLISHED-TTL:P3D
REFRESH-INTERVAL:P3D
CALSCALE:GREGORIAN
BEGIN:VEVENT
DTSTART:20190414T190000Z
DTEND:20190414T210000Z
X-MICROSOFT-CDO-ALLDAYEVENT:FALSE
SUMMARY:Gloria Bell - The World Theatre
DESCRIPTION:Gloria is a free-spirited divorc e who spends her days at a straight-laced office job and her nights on the dance floor\, joyfully letting loose at clubs around Los Angeles. After meeting Arnold on a night out\, she finds herself thrust into an unexpected new romance\, filled with both the joys of budding love and the complications of dating\, identity\, and family.
X-ALT-DESC;FMTTYPE=text/html:Gloria is a free-spirited divorc&eacute\;e who spends her days at a straight-laced office job and her nights on the dance floor\, joyfully letting loose at clubs around Los Angeles. After meeting Arnold on a night out\, she finds herself thrust into an unexpected new romance\, filled with both the joys of budding love and the complications of dating\, identity\, and family.
LOCATION:The World Theatre 2318 Central Ave Kearney NE 68847
UID:e.1404.15861
SEQUENCE:3
DTSTAMP:20260426T033412Z
URL:https://chambermaster.kearneycoc.org/events/details/gloria-bell-the-world-theatre-04-14-2019-15861
END:VEVENT

END:VCALENDAR
