BEGIN:VCALENDAR
VERSION:2.0
PRODID:-//ChamberMaster//Event Calendar 2.0//EN
METHOD:PUBLISH
X-PUBLISHED-TTL:P3D
REFRESH-INTERVAL:P3D
CALSCALE:GREGORIAN
BEGIN:VEVENT
DTSTART:20150919T003000Z
DTEND:20150919T020000Z
X-MICROSOFT-CDO-ALLDAYEVENT:FALSE
SUMMARY:Glow in the Dark 5K/1 Mile
DESCRIPTION:Compass is having their Glow in the Dark 5K/1 Mile run on Sept. 18.  This is a fundraiser for adoption and there will be live music and family fun following the race.  Races will begin around 7:30pm. The 1 mile course will go around the lake and the 5k starts at the tower and extends toward 2nd Ave.\, then returns on the east side of the lake\, at the amphitheater. To register\, click here.
X-ALT-DESC;FMTTYPE=text/html:Compass is having their Glow in the Dark 5K/1 Mile run on Sept. 18. &nbsp\;This is a fundraiser for adoption and there will be live music and family fun following the race. &nbsp\;Races will begin around 7:30pm. The 1 mile course will go around the lake and the 5k starts at the tower and extends toward 2nd Ave.\, then returns on the east side of the lake\, at the amphitheater. To register\, click <a href="https://secure.getmeregistered.com/register.php?event_id=122074&amp\;c=">here</a>.
LOCATION:Yanney Heritage Park 2020 W. 11th St.
UID:e.1404.6680
SEQUENCE:3
DTSTAMP:20260422T114909Z
URL:https://chambermaster.kearneycoc.org/events/details/glow-in-the-dark-5k-1-mile-09-18-2015-6680
END:VEVENT

END:VCALENDAR
