BEGIN:VCALENDAR
VERSION:2.0
PRODID:-//ChamberMaster//Event Calendar 2.0//EN
METHOD:PUBLISH
X-PUBLISHED-TTL:P3D
REFRESH-INTERVAL:P3D
CALSCALE:GREGORIAN
BEGIN:VEVENT
DTSTART:20160511T140000Z
DTEND:20160511T190000Z
X-MICROSOFT-CDO-ALLDAYEVENT:FALSE
SUMMARY:Golf to End Alzheimer's
DESCRIPTION:Come join us for a fun day a golfing with cash payouts and prizes to raise money to find a cure for Alzheimer's!! The tournament is a 4 person scramble\, 9:00 am shotgun start. If you are interested in a hole sponsorship contact Brittany Kosmicki at 402-525-9378
X-ALT-DESC;FMTTYPE=text/html:Come join us for a fun day a golfing with cash payouts and prizes to raise money to find a cure for Alzheimer&#39\;s!! The tournament is a 4 person scramble\, 9:00 am shotgun start. If you are interested in a hole sponsorship contact Brittany Kosmicki at 402-525-9378
LOCATION:Prairie Hills Golf Course
UID:e.1404.8762
SEQUENCE:3
DTSTAMP:20260421T235618Z
URL:https://chambermaster.kearneycoc.org/events/details/golf-to-end-alzheimer-s-05-11-2016-8762
END:VEVENT

END:VCALENDAR
