BEGIN:VCALENDAR
VERSION:2.0
PRODID:-//ChamberMaster//Event Calendar 2.0//EN
METHOD:PUBLISH
X-PUBLISHED-TTL:P3D
REFRESH-INTERVAL:P3D
CALSCALE:GREGORIAN
BEGIN:VEVENT
DTSTART;VALUE=DATE:20201226
DTEND;VALUE=DATE:20210101
TRANSP:TRANSPARENT
X-MICROSOFT-CDO-ALLDAYEVENT:TRUE
SUMMARY:Good Buy 2020 Sales
DESCRIPTION:Hit the Bricks for end-of-season sales from Saturday\, December 26th through Thursday\, December 31st! Check with individual stores for participation\, hours and sales.
X-ALT-DESC;FMTTYPE=text/html:Hit the Bricks for end-of-season sales from Saturday\, December 26th through Thursday\, December 31st! Check with individual stores for participation\, hours and sales.
LOCATION:Downtown Kearney
UID:e.1404.18915
SEQUENCE:3
DTSTAMP:20260424T191351Z
URL:https://chambermaster.kearneycoc.org/events/details/good-buy-2020-sales-18915
END:VEVENT

END:VCALENDAR
