BEGIN:VCALENDAR
VERSION:2.0
PRODID:-//ChamberMaster//Event Calendar 2.0//EN
METHOD:PUBLISH
X-PUBLISHED-TTL:P3D
REFRESH-INTERVAL:P3D
CALSCALE:GREGORIAN
BEGIN:VEVENT
DTSTART:20120815T203000Z
DTEND:20120815T220000Z
X-MICROSOFT-CDO-ALLDAYEVENT:FALSE
SUMMARY:Good Samaritan Hospital Ribbon Cutting for new addition
DESCRIPTION:Dedication Prayer Service/Ribbon Cutting for Good Samaritan's expansion project\, including the Ron & Carol Cope Heart Center
X-ALT-DESC;FMTTYPE=text/html:<span style="font-family:calibri\,sans-serif\;"><span style="font-size:11.0pt\;">Dedication Prayer Service/Ribbon Cutting for Good Samaritan&#39\;s expansion project\, including the Ron &amp\; Carol Cope Heart Center</span></span>
LOCATION:Good Samaritan Hospital\, located at 10 E 31st Street
UID:e.1404.1885
SEQUENCE:3
DTSTAMP:20260425T033229Z
URL:https://chambermaster.kearneycoc.org/events/details/good-samaritan-hospital-ribbon-cutting-for-new-addition-08-15-2012-1885
END:VEVENT

END:VCALENDAR
