BEGIN:VCALENDAR
VERSION:2.0
PRODID:-//ChamberMaster//Event Calendar 2.0//EN
METHOD:PUBLISH
X-PUBLISHED-TTL:P3D
REFRESH-INTERVAL:P3D
CALSCALE:GREGORIAN
BEGIN:VEVENT
DTSTART:20140115T204500Z
DTEND:20140115T213000Z
X-MICROSOFT-CDO-ALLDAYEVENT:FALSE
SUMMARY:Governor State of the State Tour
DESCRIPTION:FOR IMMEDIATE RELEASE\n\nFri.\, Jan. 10\, 2014\, 9:00 a.m. CT\n\n \n\nCONTACT\n\nJen Rae Wang\, 402-429-4701\n\n \n\nGovernor & Lt. Governor Announce State of the State Tour\n\n \n\n(Lincoln\, Neb.) Gov. Dave Heineman is scheduled to deliver his annual State of the State Address on Wednesday\, Jan. 15 at 10:00 a.m. CT from the Legislative Chamber of the Nebraska State Capitol in Lincoln.\n\n \n\nFollowing the 2014 State of the State Address\, Gov. Heineman and Lt. Lavon Heidemann will visit several communities across the state to highlight priorities that will be identified in the address. The schedule is as follows. All times are Central Standard Time unless otherwise noted.\n\n \n\nIn addition to his 10:00 a.m. 2014 State of the State Address on Wednesday\, Jan. 15\, Gov. Dave Heineman will be speaking at the following times and locations:\n\n \n\n          10:30 a.m.  Media Availability in Governor's Hearing Room of State Capitol\n\n \n\n          2:45 p.m.  News Conference\, Kearney Aviation Center\, 4845 Airport Road In Kearney\n\n \n\n          4:30 p.m.  News Conference\, North Platte Regional Airport Terminal Building\, Leo Johnson Conference Room\, 5400 E. Lee Bird Drive in North Platte\n\n \n\n          5:30 pm MT  News Conference\, Western NE Regional Airport\, 250023 Airport Terminal St. #10 in Scottsbluff \n\n \n\nOn Wednesday\, Jan. 15\, Lt. Gov. Lavon Heidemann will deliver remarks at the following:\n\n \n\n       2:00 p.m.  News Conference\, Norfolk Area Chamber of Commerce\, 609 West Norfolk Avenue in Norfolk\n\n \n\nThe Governor's speech will be broadcast live on the NET2 television channel\, on NET Radio\, and will be streamed live online via NET's Nebraska Capitol Live site.\n\n \n\nVideo of the address will be archived on the Governor's website\, www.Governor.Nebraska.gov.
X-ALT-DESC;FMTTYPE=text/html:<br />\n<strong>FOR IMMEDIATE RELEASE</strong><br />\nFri.\, Jan. 10\, 2014\, 9:00 a.m. CT<br />\n&nbsp\;<br />\n<strong>CONTACT</strong><br />\nJen Rae Wang\, 402-429-4701<br />\n&nbsp\;<br />\n<strong><span style="font-size:22.0pt\;">Governor &amp\; Lt. Governor Announce State of the State Tour</span></strong><br />\n&nbsp\;<br />\n(Lincoln\, Neb.) Gov. Dave Heineman is scheduled to deliver his annual State of the State Address on Wednesday\, Jan. 15 at 10:00 a.m. CT from the Legislative Chamber of the Nebraska State Capitol in Lincoln.<br />\n&nbsp\;<br />\nFollowing the 2014 State of the State Address\, Gov. Heineman and Lt. Lavon Heidemann will visit several communities across the state to highlight priorities that will be identified in the address. The schedule is as follows. <em>All times are Central Standard Time unless otherwise noted.</em><br />\n&nbsp\;<br />\n<strong>In addition to his 10:00 a.m. 2014 State of the State Address on Wednesday\, Jan. 15\, Gov. Dave Heineman will be speaking at the following times and locations:</strong><br />\n&nbsp\;<br />\n<span style="font-family:symbol\;">&middot\;&nbsp\;&nbsp\;&nbsp\;&nbsp\;&nbsp\;&nbsp\;&nbsp\;&nbsp\; </span>10:30 a.m.&nbsp\; Media Availability in Governor&rsquo\;s Hearing Room of State Capitol<br />\n&nbsp\;<br />\n<span style="font-family:symbol\;"><span style="font-size:12pt\;">&middot\;&nbsp\;&nbsp\;&nbsp\;&nbsp\;&nbsp\;&nbsp\;&nbsp\;&nbsp\; </span></span><span style="font-family:times new roman\,serif\;"><span style="font-size:12pt\;">2:45 p.m.&nbsp\; News Conference\, Kearney Aviation Center\, 4845 Airport Road In Kearney</span></span><br />\n&nbsp\;<br />\n<span style="font-family:symbol\;"><span style="font-size:12pt\;">&middot\;&nbsp\;&nbsp\;&nbsp\;&nbsp\;&nbsp\;&nbsp\;&nbsp\;&nbsp\; </span></span><span style="font-family:times new roman\,serif\;"><span style="font-size:12pt\;">4:30 p.m.&nbsp\; News Conference\, North Platte Regional Airport Terminal Building\, Leo Johnson Conference Room\, 5400 E. Lee Bird Drive in North Platte</span></span><br />\n&nbsp\;<br />\n<span style="font-family:symbol\;"><span style="font-size:12pt\;">&middot\;&nbsp\;&nbsp\;&nbsp\;&nbsp\;&nbsp\;&nbsp\;&nbsp\;&nbsp\; </span></span><span style="font-family:times new roman\,serif\;"><span style="font-size:12pt\;">5:30 pm MT&nbsp\; News Conference\, Western NE Regional Airport\, 250023 Airport Terminal St. #10 in Scottsbluff </span></span><br />\n&nbsp\;<br />\n<strong>On Wednesday\, Jan. 15\, Lt. Gov. Lavon Heidemann will deliver remarks at the following:</strong><br />\n&nbsp\;<br />\n<span style="font-family:symbol\;">&middot\;&nbsp\;&nbsp\;&nbsp\;&nbsp\;&nbsp\; </span>2:00 p.m.&nbsp\; News Conference\, Norfolk Area Chamber of Commerce\, 609 West Norfolk Avenue in Norfolk<br />\n&nbsp\;<br />\nThe Governor&rsquo\;s speech will be broadcast live on the NET2 television channel\, on NET Radio\, and will be streamed live online via NET&rsquo\;s <a href="http://www.netnebraska.org/publicmedia/capitol.html">Nebraska Capitol Live</a> site.<br />\n&nbsp\;<br />\nVideo of the address will be archived on the Governor&rsquo\;s website\, <a href="www.Governor.Nebraska.gov">www.Governor.Nebraska.gov</a>.<br />\n
LOCATION:Kearney Aviation Center 4845 Airport Road Kearney\, NE
UID:e.1404.4427
SEQUENCE:3
DTSTAMP:20260423T231352Z
URL:https://chambermaster.kearneycoc.org/events/details/governor-state-of-the-state-tour-01-15-2014-4427
END:VEVENT

END:VCALENDAR
