BEGIN:VCALENDAR
VERSION:2.0
PRODID:-//ChamberMaster//Event Calendar 2.0//EN
METHOD:PUBLISH
X-PUBLISHED-TTL:P3D
REFRESH-INTERVAL:P3D
CALSCALE:GREGORIAN
BEGIN:VEVENT
DTSTART:20190607T130000Z
DTEND:20190607T220000Z
X-MICROSOFT-CDO-ALLDAYEVENT:FALSE
SUMMARY:Grand Opening Open House- ruralMED Health and Wellness
DESCRIPTION:Join us for a Grand Opening Celebration for our new Kearney location! Join us on June 7th for an open house between 8:00 a.m.   5:00 p.m.: - Try Samples - Enter to win a free consultation or a free box of food! - Refreshments - Hear success stories - And learn more about our weight management program We hope to see you there! Our The Ideal Protein Protocol is medically developed\, methodical\, weight loss protocol with over 10 years of success. The program's 4 phases primarily promotes fat loss while supporting muscle mass in the first phase\, and then starts the dieter on the maintenance track on phases 2\, 3 and 4. Our dieters are able to use the Knowledge and habits learned throughout their weight loss to succeed in maintaining a healthy lifestyle without feeling deprived.
X-ALT-DESC;FMTTYPE=text/html:Join us for a Grand Opening Celebration for our new Kearney location! Join us on June 7th for an open house between 8:00 a.m. &ndash\; 5:00 p.m.: - Try Samples - Enter to win a free consultation or a free box of food! - Refreshments - Hear success stories - And learn more about our weight management program We hope to see you there! Our The Ideal Protein Protocol is medically developed\, methodical\, weight loss protocol with over 10 years of success. The program&rsquo\;s 4 phases primarily promotes fat loss while supporting muscle mass in the first phase\, and then starts the dieter on the maintenance track on phases 2\, 3 and 4. Our dieters are able to use the Knowledge and habits learned throughout their weight loss to succeed in maintaining a healthy lifestyle without feeling deprived.
LOCATION:620 E 25th St. Ste 1\, Kearney\, NE 68847
UID:e.1404.16503
SEQUENCE:3
DTSTAMP:20260426T005640Z
URL:https://chambermaster.kearneycoc.org/events/details/grand-opening-open-house-ruralmed-health-and-wellness-16503
END:VEVENT

END:VCALENDAR
