BEGIN:VCALENDAR
VERSION:2.0
PRODID:-//ChamberMaster//Event Calendar 2.0//EN
METHOD:PUBLISH
X-PUBLISHED-TTL:P3D
REFRESH-INTERVAL:P3D
CALSCALE:GREGORIAN
BEGIN:VEVENT
DTSTART:20160609T130000Z
DTEND:20160609T220000Z
X-MICROSOFT-CDO-ALLDAYEVENT:FALSE
SUMMARY:Grand Re-Opening
DESCRIPTION:Grand Re-Opening Celebration Celebrating the completion of our remodel There will be door prizes and give aways throughout the day. NebraskaLand National Bank will be serving grilled hamburgers and hot dogs from 11am - 1pm.
X-ALT-DESC;FMTTYPE=text/html:Grand Re-Opening Celebration Celebrating the completion of our remodel There will be door prizes and give aways throughout the day. NebraskaLand National Bank will be serving grilled hamburgers and hot dogs from 11am - 1pm.
LOCATION:Kearney Jubilee Center Thrift Store & Food Pantry
UID:e.1404.8774
SEQUENCE:3
DTSTAMP:20260421T201911Z
URL:https://chambermaster.kearneycoc.org/events/details/grand-re-opening-06-09-2016-8774
END:VEVENT

END:VCALENDAR
