BEGIN:VCALENDAR
VERSION:2.0
PRODID:-//ChamberMaster//Event Calendar 2.0//EN
METHOD:PUBLISH
X-PUBLISHED-TTL:P3D
REFRESH-INTERVAL:P3D
CALSCALE:GREGORIAN
BEGIN:VEVENT
DTSTART:20160330T150000Z
DTEND:20160330T160000Z
X-MICROSOFT-CDO-ALLDAYEVENT:FALSE
SUMMARY:Ground Breaking-Central Nebraska Veterans Home
DESCRIPTION:Groundbreaking Ceremony for the Central Nebraska Veterans Home is Wednesday\, March 30th at 10am. You don't want to miss this historic event! Please Access Via Airport Road! Please Arrive Early and CarPool
X-ALT-DESC;FMTTYPE=text/html:Groundbreaking Ceremony for the Central Nebraska Veterans Home is Wednesday\, March 30th at 10am. You don&#39\;t want to miss this historic event! Please Access Via Airport Road! Please Arrive Early and CarPool<br />\n&nbsp\;
LOCATION:5710 Airport Road National Guard Armory
UID:e.1404.8535
SEQUENCE:3
DTSTAMP:20260422T012149Z
URL:https://chambermaster.kearneycoc.org/events/details/ground-breaking-central-nebraska-veterans-home-03-30-2016-8535
END:VEVENT

END:VCALENDAR
