BEGIN:VCALENDAR
VERSION:2.0
PRODID:-//ChamberMaster//Event Calendar 2.0//EN
METHOD:PUBLISH
X-PUBLISHED-TTL:P3D
REFRESH-INTERVAL:P3D
CALSCALE:GREGORIAN
BEGIN:VEVENT
DTSTART:20130417T141500Z
DTEND:20130417T150000Z
X-MICROSOFT-CDO-ALLDAYEVENT:FALSE
SUMMARY:Ground Breaking Ceremony: Kearney Catholic High School
DESCRIPTION:Join the Kearney Catholic students and faculty at their\n\n \n\nScience Room Remodeling and Expansion Project \n\nGroundbreaking Ceremony\n\n \n\nWednesday\, April 17\, 2013\n\n9:15 a.m.\n\n \n\nKearney Catholic High School\n\nNorthwest corner\n\n110 East 35th Street\n\n \n\nThe ceremony will be held following mass at St James Catholic Church.\n\nCoffee and donuts to follow groundbreaking.\n\nIn case of inclement weather\, the event will take place in St James
X-ALT-DESC;FMTTYPE=text/html:<strong><span style="font-size:14.0pt\;">Join the Kearney Catholic students and faculty at their</span></strong><br />\n&nbsp\;<br />\n<strong><span style="font-size:14.0pt\;">Science Room Remodeling and Expansion Project </span></strong><br />\n<strong><span style="color:#00b050\;"><span style="font-size:16.0pt\;">Groundbreaking Ceremony</span></span></strong><br />\n&nbsp\;<br />\n<strong><span style="font-size:14.0pt\;">Wednesday\, April 17\, 2013</span></strong><br />\n<strong><span style="font-size:14.0pt\;">9:15 a.m.</span></strong><br />\n&nbsp\;<br />\n<strong><span style="font-size:14.0pt\;">Kearney Catholic High School</span></strong><br />\n<strong><span style="font-size:14.0pt\;">Northwest corner</span></strong><br />\n<strong><span style="font-size:14.0pt\;">110 East 35<sup>th</sup> Street</span></strong><br />\n&nbsp\;<br />\n<strong><span style="font-size:14.0pt\;">The ceremony will be held following mass at St James Catholic Church.</span></strong><br />\n<strong><span style="font-size:14.0pt\;">Coffee and donuts to follow groundbreaking.</span></strong><br />\n<strong><em>In case of inclement weather\, the event will take place in St James</em></strong><br />\n
LOCATION:Kearney Catholic High School Northwest corner 110 East 35th Street The ceremony will be held following mass at St James Catholic Church. Coffee and donuts to follow groundbreaking. In case of inclement weather\, the event will take place in St James
UID:e.1404.2487
SEQUENCE:3
DTSTAMP:20260424T142426Z
URL:https://chambermaster.kearneycoc.org/events/details/ground-breaking-ceremony-kearney-catholic-high-school-04-17-2013-2487
END:VEVENT

END:VCALENDAR
