BEGIN:VCALENDAR
VERSION:2.0
PRODID:-//ChamberMaster//Event Calendar 2.0//EN
METHOD:PUBLISH
X-PUBLISHED-TTL:P3D
REFRESH-INTERVAL:P3D
CALSCALE:GREGORIAN
BEGIN:VEVENT
DTSTART:20130328T210000Z
DTEND:20130328T220000Z
X-MICROSOFT-CDO-ALLDAYEVENT:FALSE
SUMMARY:Ground Breaking Ceremony: Kearney CrossFit
DESCRIPTION:Join us for a special ceremony as Kearney Crossfit Breaks ground on their new\, state-of-the-art facility
X-ALT-DESC;FMTTYPE=text/html:Join us for a special ceremony as Kearney Crossfit Breaks ground on their new\, state-of-the-art facility
LOCATION:West Hwy 30 (in between the Caseys & The Buckle Screenprinting buidling)
UID:e.1404.2262
SEQUENCE:3
DTSTAMP:20260424T155920Z
URL:https://chambermaster.kearneycoc.org/events/details/ground-breaking-ceremony-kearney-crossfit-03-28-2013-2262
END:VEVENT

END:VCALENDAR
