BEGIN:VCALENDAR
VERSION:2.0
PRODID:-//ChamberMaster//Event Calendar 2.0//EN
METHOD:PUBLISH
X-PUBLISHED-TTL:P3D
REFRESH-INTERVAL:P3D
CALSCALE:GREGORIAN
BEGIN:VEVENT
DTSTART:20210701T150000Z
DTEND:20210701T160000Z
X-MICROSOFT-CDO-ALLDAYEVENT:FALSE
SUMMARY:Ground Breaking TBK Transmissions
DESCRIPTION:Join us for the Ground Breaking ceremony for the new location of TBK Transmissions!
X-ALT-DESC;FMTTYPE=text/html:Join us for the Ground Breaking ceremony for the new location of TBK Transmissions!
LOCATION:Corner of 39th Street and Antelope Ave.
UID:e.1404.19336
SEQUENCE:3
DTSTAMP:20260424T060234Z
URL:https://chambermaster.kearneycoc.org/events/details/ground-breaking-tbk-transmissions-19336
END:VEVENT

END:VCALENDAR
