BEGIN:VCALENDAR
VERSION:2.0
PRODID:-//ChamberMaster//Event Calendar 2.0//EN
METHOD:PUBLISH
X-PUBLISHED-TTL:P3D
REFRESH-INTERVAL:P3D
CALSCALE:GREGORIAN
BEGIN:VEVENT
DTSTART:20190814T153000Z
DTEND:20190814T163000Z
X-MICROSOFT-CDO-ALLDAYEVENT:FALSE
SUMMARY:Groundbreaking Ceremony - Compute North
DESCRIPTION:Join us for a Groundbreaking Ceremony for Compute North!
X-ALT-DESC;FMTTYPE=text/html:Join us for a Groundbreaking Ceremony for Compute North!
LOCATION:3215 Global Drive Pl Kearney NE
UID:e.1404.16593
SEQUENCE:3
DTSTAMP:20260425T212822Z
URL:https://chambermaster.kearneycoc.org/events/details/groundbreaking-ceremony-compute-north-16593
END:VEVENT

END:VCALENDAR
