BEGIN:VCALENDAR
VERSION:2.0
PRODID:-//ChamberMaster//Event Calendar 2.0//EN
METHOD:PUBLISH
X-PUBLISHED-TTL:P3D
REFRESH-INTERVAL:P3D
CALSCALE:GREGORIAN
BEGIN:VEVENT
DTSTART:20190617T183000Z
DTEND:20190617T190000Z
X-MICROSOFT-CDO-ALLDAYEVENT:FALSE
SUMMARY:Groundbreaking Ceremony - Farm Credit Services of America
DESCRIPTION:Join us for a Groundbreaking ceremony for the new Farm Credit Services of America office!
X-ALT-DESC;FMTTYPE=text/html:Join us for a Groundbreaking ceremony for the new Farm Credit Services of America office!
LOCATION:4070 East 56th St.
UID:e.1404.16499
SEQUENCE:3
DTSTAMP:20260426T005513Z
URL:https://chambermaster.kearneycoc.org/events/details/groundbreaking-ceremony-farm-credit-services-of-america-16499
END:VEVENT

END:VCALENDAR
