BEGIN:VCALENDAR
VERSION:2.0
PRODID:-//ChamberMaster//Event Calendar 2.0//EN
METHOD:PUBLISH
X-PUBLISHED-TTL:P3D
REFRESH-INTERVAL:P3D
CALSCALE:GREGORIAN
BEGIN:VEVENT
DTSTART:20161006T140000Z
DTEND:20161006T143000Z
X-MICROSOFT-CDO-ALLDAYEVENT:FALSE
SUMMARY:Groundbreaking-Trails and Rails Family History Center
DESCRIPTION:Join Trails and Rails Museum and B.D. Construction in the groundbreaking of the new Family History Center.
X-ALT-DESC;FMTTYPE=text/html:Join Trails and Rails Museum and B.D. Construction in the groundbreaking of the new Family History Center.
LOCATION:710 W 11th St Parking is available at Trails and Rails or across the street at Centenniel Park.
UID:e.1404.9052
SEQUENCE:3
DTSTAMP:20260421T140602Z
URL:https://chambermaster.kearneycoc.org/events/details/groundbreaking-trails-and-rails-family-history-center-9052
END:VEVENT

END:VCALENDAR
