BEGIN:VCALENDAR
VERSION:2.0
PRODID:-//ChamberMaster//Event Calendar 2.0//EN
METHOD:PUBLISH
X-PUBLISHED-TTL:P3D
REFRESH-INTERVAL:P3D
CALSCALE:GREGORIAN
BEGIN:VEVENT
DTSTART:20161203T170000Z
DTEND:20161204T020000Z
X-MICROSOFT-CDO-ALLDAYEVENT:FALSE
SUMMARY:GROW Nebraska Holiday Open House
DESCRIPTION:Join GROW Nebraska at our retail location in the Kearney Hilltop Mall. We will be showcasing our great Nebraska businesses. Find the perfect gift\, sample great Nebraska food products\, and your chance for door prizes!
X-ALT-DESC;FMTTYPE=text/html:Join GROW Nebraska at our retail location in the Kearney Hilltop Mall. We will be showcasing our great Nebraska businesses. Find the perfect gift\, sample great Nebraska food products\, and your chance for door prizes!
LOCATION:4917 2nd Ave Suite Kearney\, NE
UID:e.1404.9107
SEQUENCE:3
DTSTAMP:20260419T121543Z
URL:https://chambermaster.kearneycoc.org/events/details/grow-nebraska-holiday-open-house-9107
END:VEVENT

END:VCALENDAR
