BEGIN:VCALENDAR
VERSION:2.0
PRODID:-//ChamberMaster//Event Calendar 2.0//EN
METHOD:PUBLISH
X-PUBLISHED-TTL:P3D
REFRESH-INTERVAL:P3D
CALSCALE:GREGORIAN
BEGIN:VEVENT
DTSTART:20220421T170000Z
DTEND:20220421T180000Z
X-MICROSOFT-CDO-ALLDAYEVENT:FALSE
SUMMARY:GROW Nebraska’s® FREE Online Training Selling Products on 3rd Party Websites
DESCRIPTION:Selling your products on 3rd party websites. The question we are ultimately attempting to answer is should you sell your products on 3rd party websites? What does it ultimately take to get on those websites and how do you get there? Key takeaways include Benefits of online retail What does online 3rd party retail look like? Success stories and why it is recommended
X-ALT-DESC;FMTTYPE=text/html:Selling your products on 3rd party websites. The question we are ultimately attempting to answer is should you sell your products on 3rd party websites? What does it ultimately take to get on those websites and how do you get there? Key takeaways include Benefits of online retail What does online 3rd party retail look like? Success stories and why it is recommended
LOCATION:Online Register at -- https://grownebraska.org/apr-21st-selling-products-on-3rd-party-websites-grow-nebraskas-free-online-training/
UID:e.1404.19674
SEQUENCE:3
DTSTAMP:20260423T152229Z
URL:https://chambermaster.kearneycoc.org/events/details/grow-nebraska-s-free-online-training-selling-products-on-3rd-party-websites-19674
END:VEVENT

END:VCALENDAR
