BEGIN:VCALENDAR
VERSION:2.0
PRODID:-//ChamberMaster//Event Calendar 2.0//EN
METHOD:PUBLISH
X-PUBLISHED-TTL:P3D
REFRESH-INTERVAL:P3D
CALSCALE:GREGORIAN
BEGIN:VEVENT
DTSTART:20160818T170000Z
DTEND:20160818T180000Z
X-MICROSOFT-CDO-ALLDAYEVENT:FALSE
SUMMARY:GROW Nebraska's FREE T3 Training: How to Select a Merchant Processor
DESCRIPTION:August 18\, 2016 | Third Thursday Training\n\nPresenter:  Aaron Thomas of U.S. Bank\n\nYour business is growing and you are ready to accept credit cards - now what?  You know you need a connection with a credit card but just what is a merchant processor?  Do you know how to select the right merchant processor?  Join Aaron Thomas\, Payment Solutions Consultant from U.S. Bank as he talks about the importance of a relationship\, shows you how to evaluate an offer and warns about the dangers of a contract.\n\n\n\nRegister now and save the date on your calendar ..August 18 at noon (CT). Registration is required to receive connection information. The trainings are free\, open to the public\, and you can participate from any location where you have phone service. Learn more here   \n\nThis month's training is sponsored by GROW Nebraska\, U.S. Bank and funds provided by the Local Food Promotion Program of the Agricultural Marketing Service\, U.S. Department of Agriculture.
X-ALT-DESC;FMTTYPE=text/html:<p><em>August 18\, 2016 | Third Thursday Training</em><br />\n<em>Presenter:&nbsp\; Aaron Thomas of U.S. Bank</em></p>\n\n<p>Your business is growing and you are ready to accept credit cards - now what? &nbsp\;You know you need a connection with a credit card but just what is a merchant processor?&nbsp\;&nbsp\;Do you know how to select the right merchant processor? &nbsp\;Join Aaron Thomas\, Payment Solutions Consultant from U.S. Bank as he talks about the importance of a relationship\, shows you how to evaluate an offer and warns about the dangers of a contract.<br />\n<br />\nRegister now and save the date on your calendar&hellip\;..August 18 at noon (CT). Registration is required to receive connection information. The trainings are free\, open to the public\, and you can participate from any location where you have phone service.&nbsp\;<a href="http://events.r20.constantcontact.com/register/event?oeidk=a07ecxbvw6b588d9eee&amp\;llr=ihfxmucab" style="box-sizing: border-box\; color: rgb(23\, 100\, 154)\; text-decoration: none\;">Learn more here &gt\;&gt\;</a></p>\n\n<p>This month&#39\;s training is sponsored by GROW Nebraska\, U.S. Bank and funds provided by the Local Food Promotion Program of the Agricultural Marketing Service\, U.S. Department of Agriculture.&nbsp\;</p>\n
LOCATION:
UID:e.1404.8956
SEQUENCE:3
DTSTAMP:20260421T172643Z
URL:https://chambermaster.kearneycoc.org/events/details/grow-nebraska-s-free-t3-training-how-to-select-a-merchant-processor-08-18-2016-8956
END:VEVENT

END:VCALENDAR
