BEGIN:VCALENDAR
VERSION:2.0
PRODID:-//ChamberMaster//Event Calendar 2.0//EN
METHOD:PUBLISH
X-PUBLISHED-TTL:P3D
REFRESH-INTERVAL:P3D
CALSCALE:GREGORIAN
BEGIN:VEVENT
DTSTART:20160731T010000Z
DTEND:20160731T050000Z
X-MICROSOFT-CDO-ALLDAYEVENT:FALSE
SUMMARY:Harry Potter Release Party
DESCRIPTION:On July 30th from 8pm-Midnight the Hilltop Mall will be hosting a release party for the new Harry Potter book\, Harry Potter and the Cursed Child. There will be a magician\, movie showing\, trivia\, costume contest\, themed crafts\, butter beer\, sorting hat\, and much more! Come out and enjoy the fun with Hilltop Mall and other stores participating. Other stores participating in this event include: Sequel Bookshop\, Hastings\, Hilltop 4 Theatre\, Extreme\, Smallcakes\, Stephanie's\, Claire's\, Chapman Swifts\, and CR Toys. Activities range from FREE to a small fee.
X-ALT-DESC;FMTTYPE=text/html:On July 30th from 8pm-Midnight the Hilltop Mall will be hosting a release party for the new Harry Potter book\, Harry Potter and the Cursed Child. There will be a magician\, movie showing\, trivia\, costume contest\, themed crafts\, butter beer\, sorting hat\, and much more! Come out and enjoy the fun with Hilltop Mall and other stores participating. Other stores participating in this event include: Sequel Bookshop\, Hastings\, Hilltop 4 Theatre\, Extreme\, Smallcakes\, Stephanie&rsquo\;s\, Claire&rsquo\;s\, Chapman Swifts\, and CR Toys. Activities range from FREE to a small fee.
LOCATION:Hilltop Mall
UID:e.1404.8914
SEQUENCE:3
DTSTAMP:20260421T185113Z
URL:https://chambermaster.kearneycoc.org/events/details/harry-potter-release-party-07-30-2016-8914
END:VEVENT

END:VCALENDAR
