BEGIN:VCALENDAR
VERSION:2.0
PRODID:-//ChamberMaster//Event Calendar 2.0//EN
METHOD:PUBLISH
X-PUBLISHED-TTL:P3D
REFRESH-INTERVAL:P3D
CALSCALE:GREGORIAN
BEGIN:VEVENT
DTSTART:20150920T190000Z
DTEND:20150920T220000Z
X-MICROSOFT-CDO-ALLDAYEVENT:FALSE
SUMMARY:Health and Safety Event
DESCRIPTION:Stop by the mall for an educational and fun filled afternoon! Old Navy is hosting a Health and Safety Event at the Hilltop Mall September 20th\, 2:00pm-5:00pm. During the event\, Health and Safety related Kearney area businesses will be set up inside and in the parking lot with educational activities for people of all ages. Attendees will get to explore a Firetruck\, take a mini fitness class\, play in a bounce house and much more! If your business or organization would like to be part of the event\, please contact the mall office\, 308.236.9798.
X-ALT-DESC;FMTTYPE=text/html:Stop by the mall for an educational and fun filled afternoon! Old Navy is hosting a Health and Safety Event at the Hilltop Mall September 20th\, 2:00pm-5:00pm. During the event\, Health and Safety related Kearney area businesses will be set up inside and in the parking lot with educational activities for people of all ages. Attendees will get to explore a Firetruck\, take a mini fitness class\, play in a bounce house and much more! If your business or organization would like to be part of the event\, please contact the mall office\, 308.236.9798.
LOCATION:Hilltop Mall 5011 2nd Ave Kearney\, NE 68847
UID:e.1404.6707
SEQUENCE:3
DTSTAMP:20260422T114909Z
URL:https://chambermaster.kearneycoc.org/events/details/health-and-safety-event-09-20-2015-6707
END:VEVENT

END:VCALENDAR
