BEGIN:VCALENDAR
VERSION:2.0
PRODID:-//ChamberMaster//Event Calendar 2.0//EN
METHOD:PUBLISH
X-PUBLISHED-TTL:P3D
REFRESH-INTERVAL:P3D
CALSCALE:GREGORIAN
BEGIN:VEVENT
DTSTART:20130323T150000Z
DTEND:20130323T190000Z
X-MICROSOFT-CDO-ALLDAYEVENT:FALSE
SUMMARY:Heatin' Up the Bricks Smokin' Pit Party
DESCRIPTION:
X-ALT-DESC;FMTTYPE=text/html:
LOCATION:Buffalo County Fairgrounds
UID:e.1404.2253
SEQUENCE:3
DTSTAMP:20260424T155843Z
URL:https://chambermaster.kearneycoc.org/events/details/heatin-up-the-bricks-smokin-pit-party-03-23-2013-2253
END:VEVENT

END:VCALENDAR
