BEGIN:VCALENDAR
VERSION:2.0
PRODID:-//ChamberMaster//Event Calendar 2.0//EN
METHOD:PUBLISH
X-PUBLISHED-TTL:P3D
REFRESH-INTERVAL:P3D
CALSCALE:GREGORIAN
BEGIN:VEVENT
DTSTART:20140529T160000Z
DTEND:20140529T180000Z
X-MICROSOFT-CDO-ALLDAYEVENT:FALSE
SUMMARY:Help support Kearney education! Junior Achievement Fundraiser BBQ
DESCRIPTION:Junior Achievement Fundraiser BBQ\nThursday\, May 29th\n\nFarmers & Merchants Bank\n\n11am-1pm\n\nHamburgers\, Hot Dots\, Games\, Bounce House and more!  Fun for the entire family.  Learn more about Junior Achievement and how this program will benefit your kids.  Help us raise funds to get Junior Achievement into each Kearney Public School! \n\nClick here to download this flyer.  Please help us spread the word! \n\n\n\nYou could win an HP Chrome laptop computer at the BBQ!  Pre-sale tickets available at Farmers and Merchants Bank\, Kearney Area Chamber of Commerce and Intellicom.  1 for $10 or 3 for $20.  All proceeds will benefit Junior Achievement.\n\nLaptop donated by Farmers & Merchants Bank and Intellicom.
X-ALT-DESC;FMTTYPE=text/html:Junior Achievement Fundraiser BBQ\n<p><font face="Calibri"><font size="3">Thursday\, May&nbsp\;</font><font size="3">29</font><sup><font size="2">th</font></sup></font></p>\n\n<p><font face="Calibri" size="3">Farmers &amp\; Merchants Bank</font></p>\n\n<p><font face="Calibri" size="3">11am-1pm</font></p>\n\n<p><font face="Calibri" size="3">Hamburgers\, Hot Dots\, Games\, Bounce House and more!&nbsp\; Fun for the entire family.&nbsp\; Learn more about Junior Achievement and how this program will benefit your kids.&nbsp\; Help us raise funds to get Junior Achievement into each Kearney Public School!&nbsp\;</font></p>\n\n<p><font face="Calibri" size="3"><a href="http://www.kearneycoc.org/Portals/0/JrAchievement%20BBQ%20Invite.pdf"><font color="#0066cc">Click here to download this flyer.</font></a>&nbsp\; Please help us spread the word!&nbsp\;</font><br />\n<br />\n<span style="color: rgb(0\, 0\, 0)\; font-family: Calibri\, sans-serif\; font-size: 15px\; line-height: normal\;">You could win an HP Chrome laptop computer at the BBQ! &nbsp\;Pre-sale tickets available at Farmers and Merchants Bank\, Kearney Area Chamber of Commerce and Intellicom.&nbsp\; 1 for $10 or 3 for $20. &nbsp\;All proceeds will benefit Junior Achievement.<br />\nLaptop donated by Farmers &amp\; Merchants Bank and Intellicom. &nbsp\;</span></p>\n
LOCATION:Farmers & Merchants Bank 3015 2nd Ave. Kearney
UID:e.1404.4538
SEQUENCE:3
DTSTAMP:20260423T145824Z
URL:https://chambermaster.kearneycoc.org/events/details/help-support-kearney-education-junior-achievement-fundraiser-bbq-05-29-2014-4538
END:VEVENT

END:VCALENDAR
