BEGIN:VCALENDAR
VERSION:2.0
PRODID:-//ChamberMaster//Event Calendar 2.0//EN
METHOD:PUBLISH
X-PUBLISHED-TTL:P3D
REFRESH-INTERVAL:P3D
CALSCALE:GREGORIAN
BEGIN:VEVENT
DTSTART:20140427T160000Z
DTEND:20140427T190000Z
X-MICROSOFT-CDO-ALLDAYEVENT:FALSE
SUMMARY:Hero Flight Barbeque Fundraiser
DESCRIPTION:Join us for a Barbeque Fundraising event for the 2014 Buffalo County Korean War Hero Flight. A hot dog or hamburger lunch will be provided for a free will donation to the Hero Flight. NebraskaLand National Bank will match up to $1000 of all funds raised!
X-ALT-DESC;FMTTYPE=text/html:Join us for a Barbeque Fundraising event for the 2014 Buffalo County Korean War Hero Flight. A hot dog or hamburger lunch will be provided for a free will donation to the Hero Flight. NebraskaLand National Bank will match up to $1000 of all funds raised!
LOCATION:Buffalo County Extension Building 1400 E 34th St Kearney\, NE
UID:e.1404.4697
SEQUENCE:3
DTSTAMP:20260423T163540Z
URL:https://chambermaster.kearneycoc.org/events/details/hero-flight-barbeque-fundraiser-04-27-2014-4697
END:VEVENT

END:VCALENDAR
