BEGIN:VCALENDAR
VERSION:2.0
PRODID:-//ChamberMaster//Event Calendar 2.0//EN
METHOD:PUBLISH
X-PUBLISHED-TTL:P3D
REFRESH-INTERVAL:P3D
CALSCALE:GREGORIAN
BEGIN:VEVENT
DTSTART:20141101T140000Z
DTEND:20141101T210000Z
X-MICROSOFT-CDO-ALLDAYEVENT:FALSE
SUMMARY:Hilltop Mall 30th Anniversary Celebration
DESCRIPTION:Hilltop Mall's is celebrating its 30th anniversary\, November 1st\, with mall-wide specials. The mall will be giving away over $10\,000 worth of prizes including a $7\,000 Snapper Pro mower\, diamond necklace from Riddles\, Ybike from CR toys. Visit the mall Facebook page to register to win and see the full list of events!
X-ALT-DESC;FMTTYPE=text/html:Hilltop Mall&#39\;s is celebrating its 30th anniversary\, November 1st\, with mall-wide specials. The mall will be giving away over $10\,000 worth of prizes including a $7\,000 Snapper Pro mower\, diamond necklace from Riddles\, Ybike from CR toys. Visit the mall Facebook page to register to win and see the full list of events!
LOCATION:Hilltop Mall\, 5011 2nd Ave #56\, Kearney\, NE 68847
UID:e.1404.5394
SEQUENCE:3
DTSTAMP:20260423T051232Z
URL:https://chambermaster.kearneycoc.org/events/details/hilltop-mall-30th-anniversary-celebration-11-01-2014-5394
END:VEVENT

END:VCALENDAR
