BEGIN:VCALENDAR
VERSION:2.0
PRODID:-//ChamberMaster//Event Calendar 2.0//EN
METHOD:PUBLISH
X-PUBLISHED-TTL:P3D
REFRESH-INTERVAL:P3D
CALSCALE:GREGORIAN
BEGIN:VEVENT
DTSTART:20141122T013000Z
DTEND:20141122T040000Z
X-MICROSOFT-CDO-ALLDAYEVENT:FALSE
SUMMARY:Hilltop Mall Sponsors Storm Hockey
DESCRIPTION:Hilltop Mall is partnering with Storm Hockey fans to raise money for Relay for Life. Hilltop Mall will match donations up to $500 the night of the Des Moines game (Nov 21\, 2014) at Viaero Event Center. This event is in honor of long time Hilltop Mall marketing director Michellle Hilkemann who passed away due to cancer this fall. Come support your home team and a good cause.
X-ALT-DESC;FMTTYPE=text/html:Hilltop Mall is partnering with Storm Hockey fans to raise money for Relay for Life. Hilltop Mall will match donations up to $500 the night of the Des Moines game (Nov 21\, 2014) at Viaero Event Center. This event is in honor of long time Hilltop Mall marketing director Michellle Hilkemann who passed away due to cancer this fall. Come support your home team and a good cause.
LOCATION:Viaero Event Center
UID:e.1404.5409
SEQUENCE:3
DTSTAMP:20260423T052749Z
URL:https://chambermaster.kearneycoc.org/events/details/hilltop-mall-sponsors-storm-hockey-11-21-2014-5409
END:VEVENT

END:VCALENDAR
