BEGIN:VCALENDAR
VERSION:2.0
PRODID:-//ChamberMaster//Event Calendar 2.0//EN
METHOD:PUBLISH
X-PUBLISHED-TTL:P3D
REFRESH-INTERVAL:P3D
CALSCALE:GREGORIAN
BEGIN:VEVENT
DTSTART:20141206T160000Z
DTEND:20141206T200000Z
X-MICROSOFT-CDO-ALLDAYEVENT:FALSE
SUMMARY:Holiday Open House
DESCRIPTION:Join us at Builders in Kearney for a Holiday Open House! Enjoy refreshments\, live craft sessions\, a Christmas photo booth\, and MORE! Shop our selection of Christmas Decor and SAVE even more when you bring in a canned food item to donate!
X-ALT-DESC;FMTTYPE=text/html:Join us at Builders in Kearney for a Holiday Open House! Enjoy refreshments\, live craft sessions\, a Christmas photo booth\, and MORE! Shop our selection of Christmas Decor and SAVE even more when you bring in a canned food item to donate!
LOCATION:Builders in Kearney 4600 2nd Ave
UID:e.1404.5421
SEQUENCE:3
DTSTAMP:20260423T033544Z
URL:https://chambermaster.kearneycoc.org/events/details/holiday-open-house-12-06-2014-5421
END:VEVENT

END:VCALENDAR
