BEGIN:VCALENDAR
VERSION:2.0
PRODID:-//ChamberMaster//Event Calendar 2.0//EN
METHOD:PUBLISH
X-PUBLISHED-TTL:P3D
REFRESH-INTERVAL:P3D
CALSCALE:GREGORIAN
BEGIN:VEVENT
DTSTART:20211107T180000Z
DTEND:20211107T230000Z
X-MICROSOFT-CDO-ALLDAYEVENT:FALSE
SUMMARY:Holiday Open House on the Bricks
DESCRIPTION:Shop small and local this holiday season! Get into the holiday spirit and join others on the Bricks to get a head start on shopping during Downtown Kearney's annual Holiday Open House. See what's new and take advantage of specials. Grab a coffee and a bite to eat too. It's sure to be a great afternoon on the Bricks! Be sure to inquire with individual shops for participation and specials.
X-ALT-DESC;FMTTYPE=text/html:Shop small and local this holiday season! Get into the holiday spirit and join others on the Bricks to get a head start on shopping during Downtown Kearney&rsquo\;s annual Holiday Open House. See what&rsquo\;s new and take advantage of specials. Grab a coffee and a bite to eat too. It&rsquo\;s sure to be a great afternoon on the Bricks! Be sure to inquire with individual shops for participation and specials.
LOCATION:Downtown Kearney
UID:e.1404.19417
SEQUENCE:3
DTSTAMP:20260423T233154Z
URL:https://chambermaster.kearneycoc.org/events/details/holiday-open-house-on-the-bricks-11-07-2021-19417
END:VEVENT

END:VCALENDAR
