BEGIN:VCALENDAR
VERSION:2.0
PRODID:-//ChamberMaster//Event Calendar 2.0//EN
METHOD:PUBLISH
X-PUBLISHED-TTL:P3D
REFRESH-INTERVAL:P3D
CALSCALE:GREGORIAN
BEGIN:VEVENT
DTSTART:20191103T180000Z
DTEND:20191104T000000Z
X-MICROSOFT-CDO-ALLDAYEVENT:FALSE
SUMMARY:Holiday Open House on the Bricks
DESCRIPTION:Shop local this holiday season! Get into the holiday spirit and join others on the Bricks to get a head start on shopping. See what's new and take advantage of sales. Grab a coffee and a bite to eat too. It's sure to be a great afternoon on the Bricks! Check with individual stores for participation.
X-ALT-DESC;FMTTYPE=text/html:Shop local this holiday season! Get into the holiday spirit and join others on the Bricks to get a head start on shopping. See what&#39\;s new and take advantage of sales. Grab a coffee and a bite to eat too. It&#39\;s sure to be a great afternoon on the Bricks! Check with individual stores for participation.
LOCATION:Downtown Kearney
UID:e.1404.18151
SEQUENCE:3
DTSTAMP:20260425T163842Z
URL:https://chambermaster.kearneycoc.org/events/details/holiday-open-house-on-the-bricks-18151
END:VEVENT

END:VCALENDAR
