BEGIN:VCALENDAR
VERSION:2.0
PRODID:-//ChamberMaster//Event Calendar 2.0//EN
METHOD:PUBLISH
X-PUBLISHED-TTL:P3D
REFRESH-INTERVAL:P3D
CALSCALE:GREGORIAN
BEGIN:VEVENT
DTSTART:20161112T150000Z
DTEND:20161112T220000Z
X-MICROSOFT-CDO-ALLDAYEVENT:FALSE
SUMMARY:Holiday Splendor Craft and Trade Show
DESCRIPTION:Join Christmas shoppers from all over the state at this well-established holiday craft and trade show held the second Saturday in November in Kearney for 13 years. Held at the Buffalo County Fairgrounds in the LandMark Implement Arena (EXPO). There's something for everyone including great entertainment for your kids\, everything you need for your stockings/gift giving and homemade goodies galore! Visit with home-based businesses about that perfect product you need to make your life better. Not a show you want to miss! Sponsored by Community Action Partnership of Mid Nebraska
X-ALT-DESC;FMTTYPE=text/html:Join Christmas shoppers from all over the state at this well-established holiday craft and trade show held the second Saturday in November in Kearney for 13 years. Held at the Buffalo County Fairgrounds in the LandMark Implement Arena (EXPO). There&#39\;s something for everyone including great entertainment for your kids\, everything you need for your stockings/gift giving and homemade goodies galore! Visit with home-based businesses about that perfect product you need to make your life better. Not a show you want to miss! Sponsored by Community Action Partnership of Mid Nebraska
LOCATION:Buffalo County Fairgrounds-EXPO 3807 Ave N Kearney NE 68847
UID:e.1404.9046
SEQUENCE:3
DTSTAMP:20260421T115952Z
URL:https://chambermaster.kearneycoc.org/events/details/holiday-splendor-craft-and-trade-show-9046
END:VEVENT

END:VCALENDAR
