BEGIN:VCALENDAR
VERSION:2.0
PRODID:-//ChamberMaster//Event Calendar 2.0//EN
METHOD:PUBLISH
X-PUBLISHED-TTL:P3D
REFRESH-INTERVAL:P3D
CALSCALE:GREGORIAN
BEGIN:VEVENT
DTSTART:20220930T230000Z
DTEND:20221001T003000Z
X-MICROSOFT-CDO-ALLDAYEVENT:FALSE
SUMMARY:Home Building Competition
DESCRIPTION:In this event\, participants can imagine and build their own house using the Museums supply of LEGO bricks. This will help children build skills in problem solving\, conflict resolution\, and creative thinking!\n\nParticipants will compete in age categories and each house will be judged to determine a winner in each category. Let's get building!
X-ALT-DESC;FMTTYPE=text/html:<p>In this event\, participants can imagine and build their own house using the Museums supply of LEGO bricks. This will help children build skills in problem solving\, conflict resolution\, and creative thinking!</p>\n\n<p>Participants will compete in age categories and each house will be judged to determine a winner in each category. Let&#39\;s get building!</p>\n
LOCATION:Kearney Area Children's Museum 5827 4th Ave\, Kearney\, NE 68845
UID:e.1404.20072
SEQUENCE:3
DTSTAMP:20260421T115252Z
URL:https://chambermaster.kearneycoc.org/events/details/home-building-competition-20072
END:VEVENT

END:VCALENDAR
