BEGIN:VCALENDAR
VERSION:2.0
PRODID:-//ChamberMaster//Event Calendar 2.0//EN
METHOD:PUBLISH
X-PUBLISHED-TTL:P3D
REFRESH-INTERVAL:P3D
CALSCALE:GREGORIAN
BEGIN:VEVENT
DTSTART:20161210T170000Z
DTEND:20161210T200000Z
X-MICROSOFT-CDO-ALLDAYEVENT:FALSE
SUMMARY:Home For The Pawlidays-Mini Adopt-a-thon
DESCRIPTION:Come join the shelter in finding our animals a "Home For the Pawlidays!" All pet adoptions will be reduced to $30!\n\nWe will have photos with Santa Paws\, Raffle drawings\, and refreshments as well!
X-ALT-DESC;FMTTYPE=text/html:Come join the shelter in finding our animals a &quot\;Home For the Pawlidays!&quot\; All pet adoptions will be reduced to $30!<br />\nWe will have photos with Santa Paws\, Raffle drawings\, and refreshments as well!<br />\n&nbsp\;
LOCATION:3205 W Highway 30 Kearney\, NE 68845
UID:e.1404.9081
SEQUENCE:3
DTSTAMP:20260419T121505Z
URL:https://chambermaster.kearneycoc.org/events/details/home-for-the-pawlidays-mini-adopt-a-thon-9081
END:VEVENT

END:VCALENDAR
