BEGIN:VCALENDAR
VERSION:2.0
PRODID:-//ChamberMaster//Event Calendar 2.0//EN
METHOD:PUBLISH
X-PUBLISHED-TTL:P3D
REFRESH-INTERVAL:P3D
CALSCALE:GREGORIAN
BEGIN:VEVENT
DTSTART:20190428T010000Z
DTEND:20190428T040000Z
X-MICROSOFT-CDO-ALLDAYEVENT:FALSE
SUMMARY:Home Free
DESCRIPTION:Doors Open at 7
X-ALT-DESC;FMTTYPE=text/html:Doors Open at 7
LOCATION:Viaero Events Center
UID:e.1404.14392
SEQUENCE:3
DTSTAMP:20260426T032411Z
URL:https://chambermaster.kearneycoc.org/events/details/home-free-14392
END:VEVENT

END:VCALENDAR
