BEGIN:VCALENDAR
VERSION:2.0
PRODID:-//ChamberMaster//Event Calendar 2.0//EN
METHOD:PUBLISH
X-PUBLISHED-TTL:P3D
REFRESH-INTERVAL:P3D
CALSCALE:GREGORIAN
BEGIN:VEVENT
DTSTART;VALUE=DATE:20131111
DTEND;VALUE=DATE:20131113
TRANSP:TRANSPARENT
X-MICROSOFT-CDO-ALLDAYEVENT:TRUE
SUMMARY:Hometown Heroes Celebration at Cabelas
DESCRIPTION:As our way of saying thank you. We are offering our employee discount to Active Military\, Veterans\, Law Enforcement\, Firefighters and EMS Personnel.
X-ALT-DESC;FMTTYPE=text/html:As our way of saying thank you. We are offering our employee discount to Active Military\, Veterans\, Law Enforcement\, Firefighters and EMS Personnel.&nbsp\;
LOCATION:Cabelas 3600 Hwy 30 E Kearney\, NE
UID:e.1404.3372
SEQUENCE:3
DTSTAMP:20260424T003513Z
URL:https://chambermaster.kearneycoc.org/events/details/hometown-heroes-celebration-at-cabelas-11-11-2013-3372
END:VEVENT

END:VCALENDAR
