BEGIN:VCALENDAR
VERSION:2.0
PRODID:-//ChamberMaster//Event Calendar 2.0//EN
METHOD:PUBLISH
X-PUBLISHED-TTL:P3D
REFRESH-INTERVAL:P3D
CALSCALE:GREGORIAN
BEGIN:VEVENT
DTSTART:20220609T170000Z
DTEND:20220609T180000Z
X-MICROSOFT-CDO-ALLDAYEVENT:FALSE
SUMMARY:Hospitality & Events Committee Meeting
DESCRIPTION:Chamber Coordinator: Heather Ullman\n\nMeeting Schedule: 2nd Thursday of each alternating month at Noon\n\n\n\nOn June 9th at 12:00 p.m.\, we will hear from Andrea Peachey\, sharing upcoming fair information from the Buffalo County Fairgrounds\, and Ray Longoria with the construction progress at YMCA.  Please register for this event so we know how much food to order.  A $5 donation is requested to cover food cost.  \nThe Kearney Hospitality & Events purpose is to increase the number of visitors to Kearney by marketing retail and tourism opportunities for conventions\, festivals and special events. The group does this by assisting other Chamber committees with facilitating marketing communication of the Kearney area and providing input to the Kearney Visitor's Bureau.\n\n\n\nThis committee is open to all Kearney Chamber Members. To inquire about joining this group\, contact Heather Ullman\, hullman@kearneycoc.org\, or join us for one of our meetings.
X-ALT-DESC;FMTTYPE=text/html:<div style="color: rgb(0\, 0\, 0)\; font-family: Helvetica\, Arial\, sans-serif\;">\n<p><span style="font-size:12px\;"><b>Chamber Coordinator: Heather Ullman</b><br />\n<b>Meeting Schedule:</b>&nbsp\;2nd Thursday of each&nbsp\;</span><span style="color: rgb(0\, 0\, 0)\; font-family: Helvetica\, Arial\, sans-serif\; font-size: 12px\;">alternating</span><span style="font-size:12px\;"> month at&nbsp\;Noon<br />\n<br />\nOn June 9th at 12:00 p.m.\, we will hear from Andrea Peachey\, sharing upcoming fair information from&nbsp\;the Buffalo County Fairgrounds\, and Ray Longoria with the construction progress at&nbsp\;YMCA.&nbsp\; Please register for this event so we know how much food to order.&nbsp\; A $5 donation is requested to cover food cost.&nbsp\;&nbsp\;</span></p>\n<span style="color: rgb(0\, 0\, 0)\; font-family: Helvetica\, Arial\, sans-serif\;">The Kearney Hospitality &amp\; Events purpose is to increase the number of visitors to Kearney by marketing retail and tourism opportunities for conventions\, festivals and special events. The group does this by assisting other Chamber committees with facilitating marketing communication of the Kearney area and providing input to the Kearney Visitor&rsquo\;s Bureau.</span><br style="color: rgb(0\, 0\, 0)\; font-family: Helvetica\, Arial\, sans-serif\;" />\n<br style="color: rgb(0\, 0\, 0)\; font-family: Helvetica\, Arial\, sans-serif\;" />\n<span style="color: rgb(0\, 0\, 0)\; font-family: Helvetica\, Arial\, sans-serif\;">This committee is open to all Kearney Chamber Members. To inquire about joining this group\, contact Heather Ullman\,&nbsp\;</span><a href="mailto:hullman@kearneycoc.org" style="font-family: Helvetica\, Arial\, sans-serif\;">hullman@kearneycoc.org</a><span style="color: rgb(0\, 0\, 0)\; font-family: Helvetica\, Arial\, sans-serif\;">\,&nbsp\;or join us for one of our meetings.&nbsp\;</span></div>\n\n<div style="color: rgb(0\, 0\, 0)\; font-family: Helvetica\, Arial\, sans-serif\;">&nbsp\;</div>\n
LOCATION:Kearney Area Chamber of Commerce
UID:e.1404.5529
SEQUENCE:3
DTSTAMP:20260421T153425Z
URL:https://chambermaster.kearneycoc.org/events/details/hospitality-committee-meeting-06-09-2022-5529
END:VEVENT

END:VCALENDAR
