BEGIN:VCALENDAR
VERSION:2.0
PRODID:-//ChamberMaster//Event Calendar 2.0//EN
METHOD:PUBLISH
X-PUBLISHED-TTL:P3D
REFRESH-INTERVAL:P3D
CALSCALE:GREGORIAN
BEGIN:VEVENT
DTSTART:20210909T210000Z
DTEND:20210909T220000Z
X-MICROSOFT-CDO-ALLDAYEVENT:FALSE
SUMMARY:Hospitality & Events Committee Meeting
DESCRIPTION:Chair: David Holl\, Microtel Inn & Suites\n\n\n\nInvestigator Dan Warrington will be speaking to us in regard to recent human trafficking in Nebraska and the recent sting operation that occurred.\n\nThe Visitor's Bureau and KACC will also be speaking about upcoming events. \n\nAlso - Don't forget after the meeting to attend the Business After Hours at FNBO at 5:30 - 7:30!\nThe purpose of the Kearney Hospitality & Events is to increase the number of visitors to Kearney by marketing retail and tourism opportunities for conventions\, festivals and special events. The group does this by assisting other Chamber committees with facilitating marketing communication of the Kearney area and providing input to the Kearney Visitor's Bureau.\n\n\n\nThis committee is open to all Kearney Chamber Members. To inquire about joining this group\, contact Heather Ullman at hullman@kearneycoc.org\, or join us for one of our meetings.
X-ALT-DESC;FMTTYPE=text/html:<div style="color: rgb(0\, 0\, 0)\; font-family: Helvetica\, Arial\, sans-serif\;">\n<p><span style="font-family:arial\;"><span style="font-size: 14px\;">Chair: David Holl\, Microtel Inn &amp\; Suites</span></span><br />\n<br />\n<span style="font-family:arial\;"><span style="font-size: 14.6667px\; font-weight: 700\; background-color: rgb(240\, 240\, 240)\;"><u>Investigator Dan Warrington</u>&nbsp\;will be speaking to us in regard to recent human trafficking in Nebraska and the recent sting operation that occurred.</span><br style="font-family: Tahoma\, sans-serif\; font-size: 14.6667px\; font-weight: 700\; background-color: rgb(240\, 240\, 240)\;" />\n<span style="font-size: 14.6667px\; font-weight: 700\; background-color: rgb(240\, 240\, 240)\;"><u>The Visitor&#39\;s Bureau and KACC</u> will also be speaking about upcoming events.&nbsp\;</span><br style="font-family: Tahoma\, sans-serif\; font-size: 14.6667px\; font-weight: 700\; background-color: rgb(240\, 240\, 240)\;" />\n<span style="color:#B22222\;"><span style="font-size:18px\;"><span style="font-weight: 700\; background-color: rgb(240\, 240\, 240)\;">Also - </span></span></span><span style="font-size:18px\;"><span style="font-weight: 700\; background-color: rgb(240\, 240\, 240)\;">Don&#39\;t forget after the meeting to attend the Business After Hours at FNBO at 5:30 - 7:30!</span></span></span></p>\n<span style="font-family:arial\;">The purpose of the Kearney Hospitality &amp\; Events is to increase the number of visitors to Kearney by marketing retail and tourism opportunities for conventions\, festivals and special events. The group does this by assisting other Chamber committees with facilitating marketing communication of the Kearney area and providing input to the Kearney Visitor&rsquo\;s Bureau.<br />\n<br />\nThis committee is open to all Kearney Chamber Members. To inquire about joining this group\, contact Heather Ullman at <a href="mailto:hullman@kearneycoc.org">hullman</a><a href="mailto:acope@kearneycoc.org">@kearneycoc.org</a>\,&nbsp\;or join us for one of our meetings.</span>&nbsp\;</div>\n
LOCATION:Kearney Area Chamber of Commerce
UID:e.1404.5520
SEQUENCE:3
DTSTAMP:20260424T021604Z
URL:https://chambermaster.kearneycoc.org/events/details/hospitality-committee-meeting-09-09-2021-5520
END:VEVENT

END:VCALENDAR
