BEGIN:VCALENDAR
VERSION:2.0
PRODID:-//ChamberMaster//Event Calendar 2.0//EN
METHOD:PUBLISH
X-PUBLISHED-TTL:P3D
REFRESH-INTERVAL:P3D
CALSCALE:GREGORIAN
BEGIN:VEVENT
DTSTART:20221013T170000Z
DTEND:20221013T180000Z
X-MICROSOFT-CDO-ALLDAYEVENT:FALSE
SUMMARY:Hospitality & Events Committee Meeting
DESCRIPTION:Chamber Coordinator: Heather Ullman\n\nMeeting Schedule: 2nd Thursday of each month alternating between Noon & 4:00\n\nOur presenters scheduled for this meeting include Downtown Kearney and the new and upcoming Central Community College Culinary Food Truck!\nThe Kearney Hospitality & Events purpose is to increase the number of visitors to Kearney by marketing retail and tourism opportunities for conventions\, festivals and special events. The group does this by assisting other Chamber committees with facilitating marketing communication of the Kearney area and providing input to the Kearney Visitor's Bureau.\n\n\n\nThis committee is open to all Kearney Chamber Members. To inquire about joining this group\, contact Heather Ullman\, hullman@kearneycoc.org\, or join us for one of our meetings.
X-ALT-DESC;FMTTYPE=text/html:<div style="color: rgb(0\, 0\, 0)\; font-family: Helvetica\, Arial\, sans-serif\;">\n<p><span style="font-size:12px\;"><b>Chamber Coordinator: Heather Ullman</b><br />\n<b>Meeting Schedule:</b>&nbsp\;2nd Thursday of each month alternating between Noon &amp\; 4:00</span><br />\nOur presenters scheduled for this meeting include Downtown Kearney and the new and upcoming Central Community College&nbsp\;Culinary Food Truck!</p>\nThe Kearney Hospitality &amp\; Events purpose is to increase the number of visitors to Kearney by marketing retail and tourism opportunities for conventions\, festivals and special events. The group does this by assisting other Chamber committees with facilitating marketing communication of the Kearney area and providing input to the Kearney Visitor&rsquo\;s Bureau.<br />\n<br />\nThis committee is open to all Kearney Chamber Members. To inquire about joining this group\, contact Heather Ullman\, <a href="mailto:hullman@kearneycoc.org">hullman@kearneycoc.org</a>\,&nbsp\;or join us for one of our meetings.&nbsp\;</div>\n\n<div style="color: rgb(0\, 0\, 0)\; font-family: Helvetica\, Arial\, sans-serif\;">&nbsp\;</div>\n
LOCATION:Kearney Area Chamber of Commerce
UID:e.1404.5533
SEQUENCE:3
DTSTAMP:20260419T121949Z
URL:https://chambermaster.kearneycoc.org/events/details/hospitality-committee-meeting-10-13-2022-5533
END:VEVENT

END:VCALENDAR
