BEGIN:VCALENDAR
VERSION:2.0
PRODID:-//ChamberMaster//Event Calendar 2.0//EN
METHOD:PUBLISH
X-PUBLISHED-TTL:P3D
REFRESH-INTERVAL:P3D
CALSCALE:GREGORIAN
BEGIN:VEVENT
DTSTART:20190616T003000Z
DTEND:20190616T023000Z
X-MICROSOFT-CDO-ALLDAYEVENT:FALSE
SUMMARY:Hotel Mumbai - The World Theatre
DESCRIPTION:In 2008 the Taj Mahal Palace Hotel in Mumbai becomes the target of a deadly attack by Pakistani militants. Dozens of people are held hostage as fire races through the building.
X-ALT-DESC;FMTTYPE=text/html:In 2008 the Taj Mahal Palace Hotel in Mumbai becomes the target of a deadly attack by Pakistani militants. Dozens of people are held hostage as fire races through the building.
LOCATION:The World Theatre 2318 Central Avenue Kearney\, NE 68847
UID:e.1404.16525
SEQUENCE:3
DTSTAMP:20260426T005519Z
URL:https://chambermaster.kearneycoc.org/events/details/hotel-mumbai-the-world-theatre-06-15-2019-16525
END:VEVENT

END:VCALENDAR
