BEGIN:VCALENDAR
VERSION:2.0
PRODID:-//ChamberMaster//Event Calendar 2.0//EN
METHOD:PUBLISH
X-PUBLISHED-TTL:P3D
REFRESH-INTERVAL:P3D
CALSCALE:GREGORIAN
BEGIN:VEVENT
DTSTART:20220727T130000Z
DTEND:20220727T140000Z
X-MICROSOFT-CDO-ALLDAYEVENT:FALSE
SUMMARY:How to Become a More Effective Listener - Webinar
DESCRIPTION:Listening skills are crucial but often overlooked! Can you think of any \n\nrelationships you've had that may have been ruined by a lack of \n\nclear communication? Perhaps a misunderstanding caused by one \n\nparty not listening to another? If you're interested in improving your \n\ncommunication skills\, you don't want to miss out on this opportunity!
X-ALT-DESC;FMTTYPE=text/html:Listening skills are crucial but often overlooked! Can you think of any&nbsp\;<br />\nrelationships you&rsquo\;ve had that may have been ruined by a lack of&nbsp\;<br />\nclear communication? Perhaps a misunderstanding caused by one&nbsp\;<br />\nparty not listening to another? If you&rsquo\;re interested in improving your&nbsp\;<br />\ncommunication skills\, you don&rsquo\;t want to miss out on this opportunity!
LOCATION:https://risingtideld.leadingthebest.com/LWEL0001
UID:e.1404.20041
SEQUENCE:3
DTSTAMP:20260423T115820Z
URL:https://chambermaster.kearneycoc.org/events/details/how-to-become-a-more-effective-listener-webinar-20041
END:VEVENT

END:VCALENDAR
