BEGIN:VCALENDAR
VERSION:2.0
PRODID:-//ChamberMaster//Event Calendar 2.0//EN
METHOD:PUBLISH
X-PUBLISHED-TTL:P3D
REFRESH-INTERVAL:P3D
CALSCALE:GREGORIAN
BEGIN:VEVENT
DTSTART;VALUE=DATE:20130710
DTEND;VALUE=DATE:20130825
TRANSP:TRANSPARENT
X-MICROSOFT-CDO-ALLDAYEVENT:TRUE
SUMMARY:Huge Summer clearance
DESCRIPTION:Huge selection of Summer merchandise on sale now at Redman's Downtown Kearney "The Bricks"
X-ALT-DESC;FMTTYPE=text/html:Huge selection of Summer merchandise on sale now at Redman&#39\;s Downtown Kearney &quot\;The Bricks&quot\;
LOCATION:2116 Central Ave Kearney\, NE 68847 "The Bricks"
UID:e.1404.3256
SEQUENCE:3
DTSTAMP:20260424T060449Z
URL:https://chambermaster.kearneycoc.org/events/details/huge-summer-clearance-07-10-2013-3256
END:VEVENT

END:VCALENDAR
