BEGIN:VCALENDAR
VERSION:2.0
PRODID:-//ChamberMaster//Event Calendar 2.0//EN
METHOD:PUBLISH
X-PUBLISHED-TTL:P3D
REFRESH-INTERVAL:P3D
CALSCALE:GREGORIAN
BEGIN:VEVENT
DTSTART:20150902T000000Z
DTEND:20150902T020000Z
X-MICROSOFT-CDO-ALLDAYEVENT:FALSE
SUMMARY:Hurricane on the Bayou
DESCRIPTION:To mark the 10th Anniversary of Hurricane Katrina\, the library will be offering a free screening of this impactful movie.  Planetarium show to follow.
X-ALT-DESC;FMTTYPE=text/html:To mark the 10th&nbsp\;Anniversary of Hurricane Katrina\, the library will be offering a free screening of this impactful movie. &nbsp\;Planetarium show to follow.
LOCATION:Calvin T. Ryan Library - UNK 2508 11th Ave.
UID:e.1404.6686
SEQUENCE:3
DTSTAMP:20260422T114640Z
URL:https://chambermaster.kearneycoc.org/events/details/hurricane-on-the-bayou-09-01-2015-6686
END:VEVENT

END:VCALENDAR
