BEGIN:VCALENDAR
VERSION:2.0
PRODID:-//ChamberMaster//Event Calendar 2.0//EN
METHOD:PUBLISH
X-PUBLISHED-TTL:P3D
REFRESH-INTERVAL:P3D
CALSCALE:GREGORIAN
BEGIN:VEVENT
DTSTART:20190907T193000Z
DTEND:20190907T223000Z
X-MICROSOFT-CDO-ALLDAYEVENT:FALSE
SUMMARY:Husker Saturday - Huskers vs. Colorado
DESCRIPTION:Come on out and watch the Huskers @ Colorado on the big screen! Bring your favorite snack food to share during the game. We have a big potluck for friends and family! As always...get a free jello shot for every Husker score. drink specials all day! Then stick around for the Lazy Wayne Band from 9-1 p.m.
X-ALT-DESC;FMTTYPE=text/html:Come on out and watch the Huskers @ Colorado on the big screen! Bring your favorite snack food to share during the game. We have a big potluck for friends and family! As always...get a free jello shot for every Husker score. drink specials all day! Then stick around for the Lazy Wayne Band from 9-1 p.m.&nbsp\;
LOCATION:JD's 2023 1st Ave.
UID:e.1404.17856
SEQUENCE:3
DTSTAMP:20260425T194805Z
URL:https://chambermaster.kearneycoc.org/events/details/husker-saturday-huskers-vs-colorado-17856
END:VEVENT

END:VCALENDAR
